BEGIN:VCALENDAR
VERSION:2.0
PRODID:-//Goslarer Tennis-Club 72 e.V. - ECPv6.15.18//NONSGML v1.0//EN
CALSCALE:GREGORIAN
METHOD:PUBLISH
X-WR-CALNAME:Goslarer Tennis-Club 72 e.V.
X-ORIGINAL-URL:https://gtc72.de
X-WR-CALDESC:Veranstaltungen für Goslarer Tennis-Club 72 e.V.
REFRESH-INTERVAL;VALUE=DURATION:PT1H
X-Robots-Tag:noindex
X-PUBLISHED-TTL:PT1H
BEGIN:VTIMEZONE
TZID:Europe/Berlin
BEGIN:DAYLIGHT
TZOFFSETFROM:+0100
TZOFFSETTO:+0200
TZNAME:CEST
DTSTART:20250330T010000
END:DAYLIGHT
BEGIN:STANDARD
TZOFFSETFROM:+0200
TZOFFSETTO:+0100
TZNAME:CET
DTSTART:20251026T010000
END:STANDARD
BEGIN:DAYLIGHT
TZOFFSETFROM:+0100
TZOFFSETTO:+0200
TZNAME:CEST
DTSTART:20260329T010000
END:DAYLIGHT
BEGIN:STANDARD
TZOFFSETFROM:+0200
TZOFFSETTO:+0100
TZNAME:CET
DTSTART:20261025T010000
END:STANDARD
BEGIN:DAYLIGHT
TZOFFSETFROM:+0100
TZOFFSETTO:+0200
TZNAME:CEST
DTSTART:20270328T010000
END:DAYLIGHT
BEGIN:STANDARD
TZOFFSETFROM:+0200
TZOFFSETTO:+0100
TZNAME:CET
DTSTART:20271031T010000
END:STANDARD
END:VTIMEZONE
BEGIN:VEVENT
DTSTART;TZID=Europe/Berlin:20260425T150000
DTEND;TZID=Europe/Berlin:20260425T223000
DTSTAMP:20260420T034910
CREATED:20260118T122106Z
LAST-MODIFIED:20260415T070215Z
UID:6074-1777129200-1777156200@gtc72.de
SUMMARY:Saisoneröffnung
DESCRIPTION:
URL:https://gtc72.de/event/saisoneroeffnung/
LOCATION:Goslarer TC\, Berliner Allee 10\, Goslar\, 38640\, Germany
END:VEVENT
BEGIN:VEVENT
DTSTART;TZID=Europe/Berlin:20260502T090000
DTEND;TZID=Europe/Berlin:20260502T120000
DTSTAMP:20260420T034910
CREATED:20260415T070401Z
LAST-MODIFIED:20260415T070401Z
UID:6337-1777712400-1777723200@gtc72.de
SUMMARY:Punktspiel: Junioren C vs. TV Blau-Weiß Einbeck e.V.
DESCRIPTION:
URL:https://gtc72.de/event/punktspiel-junioren-c-vs-tv-blau-weiss-einbeck-e-v/
END:VEVENT
BEGIN:VEVENT
DTSTART;TZID=Europe/Berlin:20260502T110000
DTEND;TZID=Europe/Berlin:20260502T140000
DTSTAMP:20260420T034910
CREATED:20260415T070446Z
LAST-MODIFIED:20260415T070446Z
UID:6339-1777719600-1777730400@gtc72.de
SUMMARY:Punktspiel: Junioren B vs. Mündener Tennisclub e. V.
DESCRIPTION:
URL:https://gtc72.de/event/punktspiel-junioren-b-vs-muendener-tennisclub-e-v/
LOCATION:Goslarer TC\, Berliner Allee 10\, Goslar\, 38640\, Germany
END:VEVENT
BEGIN:VEVENT
DTSTART;TZID=Europe/Berlin:20260502T110000
DTEND;TZID=Europe/Berlin:20260502T140000
DTSTAMP:20260420T034910
CREATED:20260415T070530Z
LAST-MODIFIED:20260415T070530Z
UID:6341-1777719600-1777730400@gtc72.de
SUMMARY:Punktspiel: Midcourt Team Green vs. Delligser Tennisverein
DESCRIPTION:
URL:https://gtc72.de/event/punktspiel-midcourt-team-green-vs-delligser-tennisverein/
LOCATION:Goslarer TC\, Berliner Allee 10\, Goslar\, 38640\, Germany
END:VEVENT
BEGIN:VEVENT
DTSTART;TZID=Europe/Berlin:20260502T140000
DTEND;TZID=Europe/Berlin:20260502T170000
DTSTAMP:20260420T034910
CREATED:20260415T070610Z
LAST-MODIFIED:20260415T070610Z
UID:6343-1777730400-1777741200@gtc72.de
SUMMARY:Punktspiel: Midcourt Team Orangevs. VfL Sehlem
DESCRIPTION:
URL:https://gtc72.de/event/punktspiel-midcourt-team-orangevs-vfl-sehlem/
LOCATION:Goslarer TC\, Berliner Allee 10\, Goslar\, 38640\, Germany
END:VEVENT
BEGIN:VEVENT
DTSTART;TZID=Europe/Berlin:20260503T000000
DTEND;TZID=Europe/Berlin:20260503T235959
DTSTAMP:20260420T034910
CREATED:20260131T202422Z
LAST-MODIFIED:20260415T071014Z
UID:6187-1777766400-1777852799@gtc72.de
SUMMARY:Altstadftlauf 2026
DESCRIPTION:
URL:https://gtc72.de/event/altstadftlauf-2026/
ATTACH;FMTTYPE=image/jpeg:https://gtc72.de/wp-content/uploads/2026/01/Run.jpg
END:VEVENT
BEGIN:VEVENT
DTSTART;TZID=Europe/Berlin:20260911T000000
DTEND;TZID=Europe/Berlin:20260913T235959
DTSTAMP:20260420T034910
CREATED:20260131T202502Z
LAST-MODIFIED:20260131T202502Z
UID:6189-1789084800-1789343999@gtc72.de
SUMMARY:4. Goslarer Altstadtfest Doppel & Mixed-Turnier
DESCRIPTION:
URL:https://gtc72.de/event/4-goslarer-altstadtfest-doppel-mixed-turnier/
LOCATION:Goslarer TC\, Berliner Allee 10\, Goslar\, 38640\, Germany
END:VEVENT
BEGIN:VEVENT
DTSTART;TZID=Europe/Berlin:20261231T000000
DTEND;TZID=Europe/Berlin:20261231T235959
DTSTAMP:20260420T034910
CREATED:20260202T090658Z
LAST-MODIFIED:20260202T090658Z
UID:6198-1798675200-1798761599@gtc72.de
SUMMARY:Silvesterlauf 2026
DESCRIPTION:
URL:https://gtc72.de/event/silvesterlauf-2026/
END:VEVENT
END:VCALENDAR